BEGIN:VCALENDAR
VERSION:2.0
PRODID:-//IACC - ECPv6.15.20//NONSGML v1.0//EN
CALSCALE:GREGORIAN
METHOD:PUBLISH
X-ORIGINAL-URL:https://www.iacc-us.com
X-WR-CALDESC:Events for IACC
REFRESH-INTERVAL;VALUE=DURATION:PT1H
X-Robots-Tag:noindex
X-PUBLISHED-TTL:PT1H
BEGIN:VTIMEZONE
TZID:UTC
BEGIN:STANDARD
TZOFFSETFROM:+0000
TZOFFSETTO:+0000
TZNAME:UTC
DTSTART:20200101T000000
END:STANDARD
END:VTIMEZONE
BEGIN:VEVENT
DTSTART;TZID=UTC:20210623T200000
DTEND;TZID=UTC:20210623T210000
DTSTAMP:20260422T163411
CREATED:20210528T230757Z
LAST-MODIFIED:20210528T233737Z
UID:3477-1624478400-1624482000@www.iacc-us.com
SUMMARY:June Board Meeting
DESCRIPTION:SPECIAL BOARD MEETING
URL:https://www.iacc-us.com/event/3477/
LOCATION:QUEEN BUILDING\, 5 Concourse Parkway\, Suite 805\, Sandy Springs\, GA\, 30328\, United States
CATEGORIES:Board Meeting
ORGANIZER;CN="Charan Shikh%2C MD":MAILTO:Charan.Shikh@iacc-us.com
END:VEVENT
BEGIN:VEVENT
DTSTART;TZID=UTC:20210610T120000
DTEND;TZID=UTC:20210610T133000
DTSTAMP:20260422T163411
CREATED:20210528T232754Z
LAST-MODIFIED:20210529T044223Z
UID:3486-1623326400-1623331800@www.iacc-us.com
SUMMARY:June Lunch Meeting
DESCRIPTION:June Lunch Meeting
URL:https://www.iacc-us.com/event/june-lunch-meeting/
LOCATION:Westin Perimeter Hotel\, 8 Concourse Parkway\, Sandy Springs\, GA\, 30328\, United States
CATEGORIES:Monthly Lunch Meeting
ORGANIZER;CN="Charan Shikh%2C MD":MAILTO:Charan.Shikh@iacc-us.com
END:VEVENT
END:VCALENDAR